BEGIN:VCALENDAR
VERSION:2.0
PRODID:icalendar-ruby
CALSCALE:GREGORIAN
METHOD:PUBLISH
BEGIN:VEVENT
DTSTAMP:20260420T164109Z
UID:9-1262069@vlcag.org
DTSTART:20260722T233000Z
DTEND:20260723T003000Z
CLASS:PUBLIC
CREATED:20260420T113121
DESCRIPTION:
LAST-MODIFIED:20260420T113121
LOCATION:Vertical Life Church
SUMMARY:Wednesday services
URL;VALUE=URI:https://vlcag.org/events/wednesday-services/2026-07-22
END:VEVENT
END:VCALENDAR
