BEGIN:VCALENDAR
VERSION:2.0
PRODID:icalendar-ruby
CALSCALE:GREGORIAN
METHOD:PUBLISH
BEGIN:VEVENT
DTSTAMP:20260420T131416Z
UID:9-1261135@vlcag.org
DTSTART:20260708T233000Z
DTEND:20260709T003000Z
CLASS:PUBLIC
CREATED:20260420T062134
DESCRIPTION:
LAST-MODIFIED:20260420T062134
LOCATION:Vertical Life Church
SUMMARY:Wednesday services
URL;VALUE=URI:https://vlcag.org/events/wednesday-services/2026-07-08
END:VEVENT
END:VCALENDAR
