BEGIN:VCALENDAR
VERSION:2.0
PRODID:icalendar-ruby
CALSCALE:GREGORIAN
METHOD:PUBLISH
BEGIN:VEVENT
DTSTAMP:20260420T065841Z
UID:9-1260665@vlcag.org
DTSTART:20260610T233000Z
DTEND:20260611T003000Z
CLASS:PUBLIC
CREATED:20260420T012148
DESCRIPTION:
LAST-MODIFIED:20260420T012148
LOCATION:Vertical Life Church
SUMMARY:Wednesday services
URL;VALUE=URI:https://vlcag.org/events/wednesday-services/2026-06-10
END:VEVENT
END:VCALENDAR
