BEGIN:VCALENDAR
VERSION:2.0
PRODID:icalendar-ruby
CALSCALE:GREGORIAN
METHOD:PUBLISH
BEGIN:VEVENT
DTSTAMP:20260420T035606Z
UID:9-1260197@vlcag.org
DTSTART:20260527T233000Z
DTEND:20260528T003000Z
CLASS:PUBLIC
CREATED:20260419T214455
DESCRIPTION:
LAST-MODIFIED:20260419T214455
LOCATION:Vertical Life Church
SUMMARY:Wednesday services
URL;VALUE=URI:https://vlcag.org/events/wednesday-services/2026-05-27
END:VEVENT
END:VCALENDAR
