BEGIN:VCALENDAR
VERSION:2.0
PRODID:icalendar-ruby
CALSCALE:GREGORIAN
METHOD:PUBLISH
BEGIN:VEVENT
DTSTAMP:20260420T022122Z
UID:9-1259730@vlcag.org
DTSTART:20260520T233000Z
DTEND:20260521T003000Z
CLASS:PUBLIC
CREATED:20260419T180554
DESCRIPTION:
LAST-MODIFIED:20260419T180554
LOCATION:Vertical Life Church
SUMMARY:Wednesday services
URL;VALUE=URI:https://vlcag.org/events/wednesday-services/2026-05-20
END:VEVENT
END:VCALENDAR
