BEGIN:VCALENDAR
VERSION:2.0
PRODID:icalendar-ruby
CALSCALE:GREGORIAN
METHOD:PUBLISH
BEGIN:VEVENT
DTSTAMP:20260423T090252Z
UID:8-1268840@vlcag.org
DTSTART:20261101T163000Z
DTEND:20261101T180000Z
CLASS:PUBLIC
CREATED:20260422T210328
DESCRIPTION:
LAST-MODIFIED:20260422T210328
LOCATION:3029 E Meadows Blvd\, Mesquite\, Texas 75150
SUMMARY:Sunday Morning Worship Service 
URL;VALUE=URI:https://vlcag.org/events/sunday-morning-worship-service/2026-
 11-01
END:VEVENT
END:VCALENDAR
