BEGIN:VCALENDAR
VERSION:2.0
PRODID:icalendar-ruby
CALSCALE:GREGORIAN
METHOD:PUBLISH
BEGIN:VEVENT
DTSTAMP:20260421T154846Z
UID:8-1264177@vlcag.org
DTSTART:20261011T153000Z
DTEND:20261011T170000Z
CLASS:PUBLIC
CREATED:20260421T085844
DESCRIPTION:
LAST-MODIFIED:20260421T085844
LOCATION:3029 E Meadows Blvd\, Mesquite\, Texas 75150
SUMMARY:Sunday Morning Worship Service 
URL;VALUE=URI:https://vlcag.org/events/sunday-morning-worship-service/2026-
 10-11
END:VEVENT
END:VCALENDAR
