BEGIN:VCALENDAR
VERSION:2.0
PRODID:icalendar-ruby
CALSCALE:GREGORIAN
METHOD:PUBLISH
BEGIN:VEVENT
DTSTAMP:20260421T121852Z
UID:8-1263709@vlcag.org
DTSTART:20260927T153000Z
DTEND:20260927T170000Z
CLASS:PUBLIC
CREATED:20260421T062308
DESCRIPTION:
LAST-MODIFIED:20260421T062308
LOCATION:3029 E Meadows Blvd\, Mesquite\, Texas 75150
SUMMARY:Sunday Morning Worship Service 
URL;VALUE=URI:https://vlcag.org/events/sunday-morning-worship-service/2026-
 09-27
END:VEVENT
END:VCALENDAR
