BEGIN:VCALENDAR
VERSION:2.0
PRODID:icalendar-ruby
CALSCALE:GREGORIAN
METHOD:PUBLISH
BEGIN:VEVENT
DTSTAMP:20260421T035200Z
UID:8-1263238@vlcag.org
DTSTART:20260823T153000Z
DTEND:20260823T170000Z
CLASS:PUBLIC
CREATED:20260420T191643
DESCRIPTION:
LAST-MODIFIED:20260420T191643
LOCATION:3029 E Meadows Blvd\, Mesquite\, Texas 75150
SUMMARY:Sunday Morning Worship Service 
URL;VALUE=URI:https://vlcag.org/events/sunday-morning-worship-service/2026-
 08-23
END:VEVENT
END:VCALENDAR
